BEGIN:VCALENDAR
VERSION:2.0
PRODID:-//RumFish Grill - ECPv6.15.15//NONSGML v1.0//EN
CALSCALE:GREGORIAN
METHOD:PUBLISH
X-ORIGINAL-URL:https://rumfishgrill.com
X-WR-CALDESC:Events for RumFish Grill
REFRESH-INTERVAL;VALUE=DURATION:PT1H
X-Robots-Tag:noindex
X-PUBLISHED-TTL:PT1H
BEGIN:VTIMEZONE
TZID:America/New_York
BEGIN:DAYLIGHT
TZOFFSETFROM:-0500
TZOFFSETTO:-0400
TZNAME:EDT
DTSTART:20250309T070000
END:DAYLIGHT
BEGIN:STANDARD
TZOFFSETFROM:-0400
TZOFFSETTO:-0500
TZNAME:EST
DTSTART:20251102T060000
END:STANDARD
BEGIN:DAYLIGHT
TZOFFSETFROM:-0500
TZOFFSETTO:-0400
TZNAME:EDT
DTSTART:20260308T070000
END:DAYLIGHT
BEGIN:STANDARD
TZOFFSETFROM:-0400
TZOFFSETTO:-0500
TZNAME:EST
DTSTART:20261101T060000
END:STANDARD
BEGIN:DAYLIGHT
TZOFFSETFROM:-0500
TZOFFSETTO:-0400
TZNAME:EDT
DTSTART:20270314T070000
END:DAYLIGHT
BEGIN:STANDARD
TZOFFSETFROM:-0400
TZOFFSETTO:-0500
TZNAME:EST
DTSTART:20271107T060000
END:STANDARD
END:VTIMEZONE
BEGIN:VEVENT
DTSTART;TZID=America/New_York:20260423T180000
DTEND;TZID=America/New_York:20260423T220000
DTSTAMP:20260423T085932
CREATED:20260324T143750Z
LAST-MODIFIED:20260324T150240Z
UID:10001584-1776967200-1776981600@rumfishgrill.com
SUMMARY:Live music @ RumFish Sports Bar
DESCRIPTION:
URL:https://rumfishgrill.com/event/rumfish-sports-bar-live-music-3-2/2026-04-23/
LOCATION:RumFish Sports Bar\, 6000 Gulf Blvd\, St. Pete Beach\, Florida\, 33706
CATEGORIES:Live Music
END:VEVENT
BEGIN:VEVENT
DTSTART;TZID=America/New_York:20260423T200000
DTEND;TZID=America/New_York:20260423T220000
DTSTAMP:20260423T085932
CREATED:20251120T175211Z
LAST-MODIFIED:20260107T210234Z
UID:10000696-1776974400-1776981600@rumfishgrill.com
SUMMARY:Karaoke @ SandBar: beachside at RumFish
DESCRIPTION:Grab your family and friends and get ready for a fun night of Karaoke! \n\nTime: every Thursday night from 8 pm – 10 pm\nLocation: SandBar\n\nYou can also enjoy Karaoke every Tuesday night (8 pm – 10 pm)\, located at RumFish Sports Bar.
URL:https://rumfishgrill.com/event/karaoke-11/2026-04-23/
LOCATION:SandBar: located at RumFish Beach\, 6000 Gulf Blvd\, St. Pete Beach\, Florida\, 33706
CATEGORIES:Entertainment
END:VEVENT
BEGIN:VEVENT
DTSTART;TZID=America/New_York:20260424T180000
DTEND;TZID=America/New_York:20260424T220000
DTSTAMP:20260423T085932
CREATED:20260218T174736Z
LAST-MODIFIED:20260324T143450Z
UID:10001479-1777053600-1777068000@rumfishgrill.com
SUMMARY:Live music @ RumFish Sports Bar
DESCRIPTION:
URL:https://rumfishgrill.com/event/dj-rumfish-sports-bar-2-2/2026-04-24/
LOCATION:RumFish Sports Bar\, 6000 Gulf Blvd\, St. Pete Beach\, Florida\, 33706
CATEGORIES:Live Music
END:VEVENT
BEGIN:VEVENT
DTSTART;TZID=America/New_York:20260426T170000
DTEND;TZID=America/New_York:20260426T220000
DTSTAMP:20260423T085932
CREATED:20260324T145032Z
LAST-MODIFIED:20260324T145032Z
UID:10001558-1777222800-1777240800@rumfishgrill.com
SUMMARY:Live music @ RumFish Sports Bar
DESCRIPTION:
URL:https://rumfishgrill.com/event/live-music-rumfish-sports-bar/2026-04-26/
LOCATION:RumFish Sports Bar\, 6000 Gulf Blvd\, St. Pete Beach\, Florida\, 33706
CATEGORIES:Live Music
END:VEVENT
BEGIN:VEVENT
DTSTART;TZID=America/New_York:20260427T190000
DTEND;TZID=America/New_York:20260427T203000
DTSTAMP:20260423T085932
CREATED:20251120T171437Z
LAST-MODIFIED:20260108T181707Z
UID:10000143-1777316400-1777321800@rumfishgrill.com
SUMMARY:Trivia Night @ RumFish Sports Bar
DESCRIPTION:Ignite your competitive spirit and indulge in an evening of fun and brain-teasing challenges. Test your knowledge with Monday Night Trivia featuring DJ Trivia of Tampa Bay. Don’t miss the chance to win exciting prizes\, redeemable at the end of the night by the top three teams!\n\nEvery Monday night\, 7:00 pm – 8:30 pm. Registration begins at 6:15 pm.\nLocation: RumFish Sports Bar
URL:https://rumfishgrill.com/event/trivia-night-rumfish-sports-bar/2026-04-27/
LOCATION:RumFish Sports Bar\, 6000 Gulf Blvd\, St. Pete Beach\, Florida\, 33706
CATEGORIES:Entertainment
END:VEVENT
BEGIN:VEVENT
DTSTART;TZID=America/New_York:20260428T200000
DTEND;TZID=America/New_York:20260428T220000
DTSTAMP:20260423T085932
CREATED:20251120T175037Z
LAST-MODIFIED:20260108T181624Z
UID:10000437-1777406400-1777413600@rumfishgrill.com
SUMMARY:Karaoke @ RumFish Sports Bar
DESCRIPTION:Grab your family and friends and get ready for a fun night of Karaoke! \n\nTime: every Tuesday night from 8 pm – 10 pm\nLocation: RumFish Sports Bar\n\nYou can also enjoy Karaoke on Thursday night (8 pm – 10 pm)\, located at the SandBar.
URL:https://rumfishgrill.com/event/karaoke-10/2026-04-28/
LOCATION:RumFish Sports Bar\, 6000 Gulf Blvd\, St. Pete Beach\, Florida\, 33706
CATEGORIES:Entertainment
END:VEVENT
BEGIN:VEVENT
DTSTART;TZID=America/New_York:20260429T180000
DTEND;TZID=America/New_York:20260429T220000
DTSTAMP:20260423T085932
CREATED:20260107T210816Z
LAST-MODIFIED:20260324T150513Z
UID:10001488-1777485600-1777500000@rumfishgrill.com
SUMMARY:Live music @ RumFish Sports Bar
DESCRIPTION:
URL:https://rumfishgrill.com/event/rumfish-sports-bar-live-music-2/2026-04-29/
LOCATION:RumFish Sports Bar\, 6000 Gulf Blvd\, St. Pete Beach\, Florida\, 33706
CATEGORIES:Live Music
END:VEVENT
BEGIN:VEVENT
DTSTART;TZID=America/New_York:20260430T180000
DTEND;TZID=America/New_York:20260430T220000
DTSTAMP:20260423T085932
CREATED:20260324T143750Z
LAST-MODIFIED:20260324T150240Z
UID:10001585-1777572000-1777586400@rumfishgrill.com
SUMMARY:Live music @ RumFish Sports Bar
DESCRIPTION:
URL:https://rumfishgrill.com/event/rumfish-sports-bar-live-music-3-2/2026-04-30/
LOCATION:RumFish Sports Bar\, 6000 Gulf Blvd\, St. Pete Beach\, Florida\, 33706
CATEGORIES:Live Music
END:VEVENT
BEGIN:VEVENT
DTSTART;TZID=America/New_York:20260430T200000
DTEND;TZID=America/New_York:20260430T220000
DTSTAMP:20260423T085932
CREATED:20251120T175211Z
LAST-MODIFIED:20260107T210234Z
UID:10000697-1777579200-1777586400@rumfishgrill.com
SUMMARY:Karaoke @ SandBar: beachside at RumFish
DESCRIPTION:Grab your family and friends and get ready for a fun night of Karaoke! \n\nTime: every Thursday night from 8 pm – 10 pm\nLocation: SandBar\n\nYou can also enjoy Karaoke every Tuesday night (8 pm – 10 pm)\, located at RumFish Sports Bar.
URL:https://rumfishgrill.com/event/karaoke-11/2026-04-30/
LOCATION:SandBar: located at RumFish Beach\, 6000 Gulf Blvd\, St. Pete Beach\, Florida\, 33706
CATEGORIES:Entertainment
END:VEVENT
END:VCALENDAR